BEGIN:VCALENDAR
VERSION:2.0
PRODID:-//Stowarzyszenie Adventure Riders Poland - ECPv6.15.20//NONSGML v1.0//EN
CALSCALE:GREGORIAN
METHOD:PUBLISH
X-ORIGINAL-URL:https://adventureriders.pl
X-WR-CALDESC:Wydarzenia dla Stowarzyszenie Adventure Riders Poland
REFRESH-INTERVAL;VALUE=DURATION:PT1H
X-Robots-Tag:noindex
X-PUBLISHED-TTL:PT1H
BEGIN:VTIMEZONE
TZID:Europe/Warsaw
BEGIN:DAYLIGHT
TZOFFSETFROM:+0100
TZOFFSETTO:+0200
TZNAME:CEST
DTSTART:20240331T010000
END:DAYLIGHT
BEGIN:STANDARD
TZOFFSETFROM:+0200
TZOFFSETTO:+0100
TZNAME:CET
DTSTART:20241027T010000
END:STANDARD
BEGIN:DAYLIGHT
TZOFFSETFROM:+0100
TZOFFSETTO:+0200
TZNAME:CEST
DTSTART:20250330T010000
END:DAYLIGHT
BEGIN:STANDARD
TZOFFSETFROM:+0200
TZOFFSETTO:+0100
TZNAME:CET
DTSTART:20251026T010000
END:STANDARD
BEGIN:DAYLIGHT
TZOFFSETFROM:+0100
TZOFFSETTO:+0200
TZNAME:CEST
DTSTART:20260329T010000
END:DAYLIGHT
BEGIN:STANDARD
TZOFFSETFROM:+0200
TZOFFSETTO:+0100
TZNAME:CET
DTSTART:20261025T010000
END:STANDARD
END:VTIMEZONE
BEGIN:VEVENT
DTSTART;TZID=Europe/Warsaw:20251016T180000
DTEND;TZID=Europe/Warsaw:20251016T200000
DTSTAMP:20260419T173500
CREATED:20250919T064603Z
LAST-MODIFIED:20251015T064353Z
UID:4929-1760637600-1760644800@adventureriders.pl
SUMMARY:Przygoda zaczyna się tam\, gdzie pojawiają się trudności
DESCRIPTION:Cześć jeśli masz ochotę spotkać się z nami po wakacyjnej przerwie\, to zapraszam Cię serdecznie na to spotkanie. Mateusz był ostatnio gościem naszego podcastu\, w którym rozmawialiśmy o jego dość szalonej podróży po Norwegii. \nZrzutka jak zwykle idzie na pizzę na spotkanie plus drobne przekąski. \n \nJeśli masz ochotę zobacz podcast z Mateuszem o jego wyjeździe do Norwegii. \nUrlop w 2024 roku\, zamiast planowanej wyprawy w Alpy\, przyszło mi spędzić w Beskidzie Wyspowym. Choć bardzo lubię ten rejon\, towarzyszyło mi poczucie niedosytu – brakowało mi dalszej\, motocyklowej przygody. Postanowiłem więc wyrwać się choć na kilka dni i ruszyć do Rumunii. \nBez większych przygotowań spakowałem kufry i obrałem prosty plan: przejechać dwie najsłynniejsze drogi – Transalpinę i Transfogarasan – a przede wszystkim spróbować swoich sił w off-roadzie na legendarnej „Strategice”. \nJak to zwykle bywa\, rzeczywistość zweryfikowała moje zamiary i zmusiła do improwizacji. Nie udało się zrealizować planu w stu procentach\, ale właśnie w tym tkwi urok podróży – przygoda zaczyna się tam\, gdzie pojawiają się trudności. A ta wyprawa była przygodą\, którą zapamiętam na całe życie. \n \nNaszym gościem będzie Mateusz Janicki (MatADV).
URL:https://adventureriders.pl/event/adv10-przygoda-zaczyna-sie-tam-gdzie-pojawiaja-sie-trudnosci/
LOCATION:Centrum Biurowe Lubicz\, Lubicz 23\, Kraków\, 31-503\, Poland
CATEGORIES:Adventure Riders Meetup
ATTACH;FMTTYPE=image/jpeg:https://adventureriders.pl/wp-content/uploads/2025/09/adv_10_strategica_new.jpg
ORGANIZER;CN="Adventure Riders":MAILTO:sebastian@adventureriders.pl
END:VEVENT
END:VCALENDAR